BEGIN:VCALENDAR
VERSION:2.0
PRODID:-//Haus am Dammühlenteich - ECPv6.15.20//NONSGML v1.0//EN
CALSCALE:GREGORIAN
METHOD:PUBLISH
X-WR-CALNAME:Haus am Dammühlenteich
X-ORIGINAL-URL:https://haus-am-dammuehlenteich.de
X-WR-CALDESC:Veranstaltungen für Haus am Dammühlenteich
REFRESH-INTERVAL;VALUE=DURATION:PT1H
X-Robots-Tag:noindex
X-PUBLISHED-TTL:PT1H
BEGIN:VTIMEZONE
TZID:UTC
BEGIN:STANDARD
TZOFFSETFROM:+0000
TZOFFSETTO:+0000
TZNAME:UTC
DTSTART:20250101T000000
END:STANDARD
END:VTIMEZONE
BEGIN:VEVENT
DTSTART;TZID=UTC:20261120T180000
DTEND;TZID=UTC:20261120T220000
DTSTAMP:20260421T111129
CREATED:20260203T135918Z
LAST-MODIFIED:20260203T140310Z
UID:2144-1795197600-1795212000@haus-am-dammuehlenteich.de
SUMMARY:20.11. Unsere beliebten Weihnachtsveranstaltungen
DESCRIPTION:mit Winterglühwein zur Begrüßung am offenem Feuer und danach leckerem Menü im warmen Gasthaus; \n\n\n\nhausgemachte Gänsesuppe\, zarte Entenkeule mit Apfelrotkohl und kleinen Klößen \n\n\n\noder \n\n\n\nals Wahl „Entenschnitzel“ mit Schnitzel vom saftigem Schweinelachs mit Orangenbratensoße und Entenbruststreifen im Ofen überbacken \n\n\n\nund danach noch ein leckeres Eisdessert. Nach dem Speisen geht es wieder nach draußen auf unsere Eisstockbahn wo es heiß hergehen wird.Im Innenbereich wird dann unser erfahrener Haus DJ Sie mit Tanzmusik bis ca. 22 Uhr unterhalten.   \n\n\n\nPreis nur 29.95 €
URL:https://haus-am-dammuehlenteich.de/event/unsere-beliebten-weihnachtsveranstaltungen-3-2-2-2/
CATEGORIES:2026
END:VEVENT
BEGIN:VEVENT
DTSTART;TZID=UTC:20261126T180000
DTEND;TZID=UTC:20261126T220000
DTSTAMP:20260421T111129
CREATED:20260203T140047Z
LAST-MODIFIED:20260203T140354Z
UID:2146-1795716000-1795730400@haus-am-dammuehlenteich.de
SUMMARY:26.11. Unsere beliebten Weihnachtsveranstaltungen
DESCRIPTION:mit Winterglühwein zur Begrüßung am offenem Feuer und danach leckerem Menü im warmen Gasthaus; \n\n\n\nhausgemachte Gänsesuppe\, zarte Entenkeule mit Apfelrotkohl und kleinen Klößen \n\n\n\noder \n\n\n\nals Wahl „Entenschnitzel“ mit Schnitzel vom saftigem Schweinelachs mit Orangenbratensoße und Entenbruststreifen im Ofen überbacken \n\n\n\nund danach noch ein leckeres Eisdessert. Nach dem Speisen geht es wieder nach draußen auf unsere Eisstockbahn wo es heiß hergehen wird.Im Innenbereich wird dann unser erfahrener Haus DJ Sie mit Tanzmusik bis ca. 22 Uhr unterhalten.   \n\n\n\nPreis nur 29.95 €
URL:https://haus-am-dammuehlenteich.de/event/unsere-beliebten-weihnachtsveranstaltungen-3-2-2-2-2/
CATEGORIES:2026
END:VEVENT
BEGIN:VEVENT
DTSTART;TZID=UTC:20261127T180000
DTEND;TZID=UTC:20261127T220000
DTSTAMP:20260421T111129
CREATED:20260203T140418Z
LAST-MODIFIED:20260203T140419Z
UID:2154-1795802400-1795816800@haus-am-dammuehlenteich.de
SUMMARY:27.11. Unsere beliebten Weihnachtsveranstaltungen
DESCRIPTION:mit Winterglühwein zur Begrüßung am offenem Feuer und danach leckerem Menü im warmen Gasthaus; \n\n\n\nhausgemachte Gänsesuppe\, zarte Entenkeule mit Apfelrotkohl und kleinen Klößen \n\n\n\noder \n\n\n\nals Wahl „Entenschnitzel“ mit Schnitzel vom saftigem Schweinelachs mit Orangenbratensoße und Entenbruststreifen im Ofen überbacken \n\n\n\nund danach noch ein leckeres Eisdessert. Nach dem Speisen geht es wieder nach draußen auf unsere Eisstockbahn wo es heiß hergehen wird.Im Innenbereich wird dann unser erfahrener Haus DJ Sie mit Tanzmusik bis ca. 22 Uhr unterhalten.   \n\n\n\nPreis nur 29.95 €
URL:https://haus-am-dammuehlenteich.de/event/unsere-beliebten-weihnachtsveranstaltungen-3-2-2-2-2-2/
CATEGORIES:2026
END:VEVENT
BEGIN:VEVENT
DTSTART;TZID=UTC:20261203T180000
DTEND;TZID=UTC:20261203T220000
DTSTAMP:20260421T111129
CREATED:20260203T140451Z
LAST-MODIFIED:20260203T140452Z
UID:2156-1796320800-1796335200@haus-am-dammuehlenteich.de
SUMMARY:3.12. Unsere beliebten Weihnachtsveranstaltungen
DESCRIPTION:mit Winterglühwein zur Begrüßung am offenem Feuer und danach leckerem Menü im warmen Gasthaus; \n\n\n\nhausgemachte Gänsesuppe\, zarte Entenkeule mit Apfelrotkohl und kleinen Klößen \n\n\n\noder \n\n\n\nals Wahl „Entenschnitzel“ mit Schnitzel vom saftigem Schweinelachs mit Orangenbratensoße und Entenbruststreifen im Ofen überbacken \n\n\n\nund danach noch ein leckeres Eisdessert. Nach dem Speisen geht es wieder nach draußen auf unsere Eisstockbahn wo es heiß hergehen wird.Im Innenbereich wird dann unser erfahrener Haus DJ Sie mit Tanzmusik bis ca. 22 Uhr unterhalten.   \n\n\n\nPreis nur 29.95 €
URL:https://haus-am-dammuehlenteich.de/event/unsere-beliebten-weihnachtsveranstaltungen-3-2-2-2-2-2-2/
CATEGORIES:2026
END:VEVENT
BEGIN:VEVENT
DTSTART;TZID=UTC:20261204T180000
DTEND;TZID=UTC:20261204T220000
DTSTAMP:20260421T111129
CREATED:20260203T140515Z
LAST-MODIFIED:20260203T140515Z
UID:2158-1796407200-1796421600@haus-am-dammuehlenteich.de
SUMMARY:4.12. Unsere beliebten Weihnachtsveranstaltungen
DESCRIPTION:mit Winterglühwein zur Begrüßung am offenem Feuer und danach leckerem Menü im warmen Gasthaus; \n\n\n\nhausgemachte Gänsesuppe\, zarte Entenkeule mit Apfelrotkohl und kleinen Klößen \n\n\n\noder \n\n\n\nals Wahl „Entenschnitzel“ mit Schnitzel vom saftigem Schweinelachs mit Orangenbratensoße und Entenbruststreifen im Ofen überbacken \n\n\n\nund danach noch ein leckeres Eisdessert. Nach dem Speisen geht es wieder nach draußen auf unsere Eisstockbahn wo es heiß hergehen wird.Im Innenbereich wird dann unser erfahrener Haus DJ Sie mit Tanzmusik bis ca. 22 Uhr unterhalten.   \n\n\n\nPreis nur 29.95 €
URL:https://haus-am-dammuehlenteich.de/event/unsere-beliebten-weihnachtsveranstaltungen-3-2-2-2-2-2-2-2/
CATEGORIES:2026
END:VEVENT
BEGIN:VEVENT
DTSTART;TZID=UTC:20261210T180000
DTEND;TZID=UTC:20261210T220000
DTSTAMP:20260421T111129
CREATED:20260203T140530Z
LAST-MODIFIED:20260203T140530Z
UID:2160-1796925600-1796940000@haus-am-dammuehlenteich.de
SUMMARY:10.12. Unsere beliebten Weihnachtsveranstaltungen
DESCRIPTION:mit Winterglühwein zur Begrüßung am offenem Feuer und danach leckerem Menü im warmen Gasthaus; \n\n\n\nhausgemachte Gänsesuppe\, zarte Entenkeule mit Apfelrotkohl und kleinen Klößen \n\n\n\noder \n\n\n\nals Wahl „Entenschnitzel“ mit Schnitzel vom saftigem Schweinelachs mit Orangenbratensoße und Entenbruststreifen im Ofen überbacken \n\n\n\nund danach noch ein leckeres Eisdessert. Nach dem Speisen geht es wieder nach draußen auf unsere Eisstockbahn wo es heiß hergehen wird.Im Innenbereich wird dann unser erfahrener Haus DJ Sie mit Tanzmusik bis ca. 22 Uhr unterhalten.   \n\n\n\nPreis nur 29.95 €
URL:https://haus-am-dammuehlenteich.de/event/unsere-beliebten-weihnachtsveranstaltungen-3-2-2-2-2-2-2-2-2/
CATEGORIES:2026
END:VEVENT
BEGIN:VEVENT
DTSTART;TZID=UTC:20261211T180000
DTEND;TZID=UTC:20261211T220000
DTSTAMP:20260421T111129
CREATED:20260203T140550Z
LAST-MODIFIED:20260203T140551Z
UID:2162-1797012000-1797026400@haus-am-dammuehlenteich.de
SUMMARY:11.12. Unsere beliebten Weihnachtsveranstaltungen
DESCRIPTION:mit Winterglühwein zur Begrüßung am offenem Feuer und danach leckerem Menü im warmen Gasthaus; \n\n\n\nhausgemachte Gänsesuppe\, zarte Entenkeule mit Apfelrotkohl und kleinen Klößen \n\n\n\noder \n\n\n\nals Wahl „Entenschnitzel“ mit Schnitzel vom saftigem Schweinelachs mit Orangenbratensoße und Entenbruststreifen im Ofen überbacken \n\n\n\nund danach noch ein leckeres Eisdessert. Nach dem Speisen geht es wieder nach draußen auf unsere Eisstockbahn wo es heiß hergehen wird.Im Innenbereich wird dann unser erfahrener Haus DJ Sie mit Tanzmusik bis ca. 22 Uhr unterhalten.   \n\n\n\nPreis nur 29.95 €
URL:https://haus-am-dammuehlenteich.de/event/unsere-beliebten-weihnachtsveranstaltungen-3-2-2-2-2-2-2-2-2-2/
CATEGORIES:2026
END:VEVENT
BEGIN:VEVENT
DTSTART;TZID=UTC:20261225T000000
DTEND;TZID=UTC:20261225T235959
DTSTAMP:20260421T111129
CREATED:20260203T140840Z
LAST-MODIFIED:20260203T140842Z
UID:2164-1798156800-1798243199@haus-am-dammuehlenteich.de
SUMMARY:Freitag den 25.12. Rustikale romantische Weihnachtskarte ab 11:30 Uhr
DESCRIPTION:und wie jeden Freitag ab 17 Uhr und auch Sonnabend ab 17 Uhr „Schnitzelzeit“ für nur 12\,12 € und XXL nur 17\,17 € zusätzlich zu unserer Speisekarte mit leckerem Braten und vegetarischen Gerichten
URL:https://haus-am-dammuehlenteich.de/event/freitag-den-25-12-rustikale-romantische-weihnachtskarte-ab-1130-uhr/
END:VEVENT
BEGIN:VEVENT
DTSTART;TZID=UTC:20261225T000000
DTEND;TZID=UTC:20261225T235959
DTSTAMP:20260421T111129
CREATED:20260203T140904Z
LAST-MODIFIED:20260203T140905Z
UID:2166-1798156800-1798243199@haus-am-dammuehlenteich.de
SUMMARY:Sonnabend den 26.12. Rustikale romantische Weihnachtskarte ab 11:30 Uhr
DESCRIPTION:und wie jeden Freitag ab 17 Uhr und auch Sonnabend ab 17 Uhr „Schnitzelzeit“ für nur 12\,12 € und XXL nur 17\,17 € zusätzlich zu unserer Speisekarte mit leckerem Braten und vegetarischen Gerichten
URL:https://haus-am-dammuehlenteich.de/event/freitag-den-25-12-rustikale-romantische-weihnachtskarte-ab-1130-uhr-2/
END:VEVENT
END:VCALENDAR