BEGIN:VCALENDAR
VERSION:2.0
PRODID:-//Haus am Dammühlenteich - ECPv6.15.20//NONSGML v1.0//EN
CALSCALE:GREGORIAN
METHOD:PUBLISH
X-WR-CALNAME:Haus am Dammühlenteich
X-ORIGINAL-URL:https://haus-am-dammuehlenteich.de
X-WR-CALDESC:Veranstaltungen für Haus am Dammühlenteich
REFRESH-INTERVAL;VALUE=DURATION:PT1H
X-Robots-Tag:noindex
X-PUBLISHED-TTL:PT1H
BEGIN:VTIMEZONE
TZID:UTC
BEGIN:STANDARD
TZOFFSETFROM:+0000
TZOFFSETTO:+0000
TZNAME:UTC
DTSTART:20250101T000000
END:STANDARD
END:VTIMEZONE
BEGIN:VEVENT
DTSTART;TZID=UTC:20260501T113000
DTEND;TZID=UTC:20260501T113000
DTSTAMP:20260421T124331
CREATED:20260203T130411Z
LAST-MODIFIED:20260203T130416Z
UID:2093-1777635000-1777635000@haus-am-dammuehlenteich.de
SUMMARY:Freitag den 01.05. ab 11:30 Uhr ist „Schnitzeltag“ für nur 12\,12 € & XXL 17\,17 €
DESCRIPTION:
URL:https://haus-am-dammuehlenteich.de/event/freitag-den-01-05-ab-1130-uhr-ist-schnitzeltag-fuer-nur-1212-e-xxl-1717-e/
CATEGORIES:2026
END:VEVENT
BEGIN:VEVENT
DTSTART;TZID=UTC:20260510T000000
DTEND;TZID=UTC:20260510T235959
DTSTAMP:20260421T124331
CREATED:20260203T130619Z
LAST-MODIFIED:20260203T130630Z
UID:2098-1778371200-1778457599@haus-am-dammuehlenteich.de
SUMMARY:Sonntag 10.05. Muttertag – mit leckerer Verführung für alle Muttis
DESCRIPTION:
URL:https://haus-am-dammuehlenteich.de/event/sonntag-10-05-muttertag-mit-leckerer-verfuehrung-fuer-alle-muttis/
CATEGORIES:2026
END:VEVENT
BEGIN:VEVENT
DTSTART;TZID=UTC:20260514T113000
DTEND;TZID=UTC:20260514T150000
DTSTAMP:20260421T124331
CREATED:20260203T130739Z
LAST-MODIFIED:20260203T130745Z
UID:2100-1778758200-1778770800@haus-am-dammuehlenteich.de
SUMMARY:Donnerstag den 14.05. „Himmelfahrt“ ist wie jeden Donnerstag „Schnitzeltag“
DESCRIPTION:für nur 12\,12 € XXL 17\,17 € geöffnet von 11:30 Uhr bis 15:00 Uhr
URL:https://haus-am-dammuehlenteich.de/event/donnerstag-den-14-05-himmelfahrt-ist-wie-jeden-donnerstag-schnitzeltag/
CATEGORIES:2026
END:VEVENT
END:VCALENDAR