BEGIN:VCALENDAR
VERSION:2.0
PRODID:-//Haus am Dammühlenteich - ECPv6.15.20//NONSGML v1.0//EN
CALSCALE:GREGORIAN
METHOD:PUBLISH
X-WR-CALNAME:Haus am Dammühlenteich
X-ORIGINAL-URL:https://haus-am-dammuehlenteich.de
X-WR-CALDESC:Veranstaltungen für Haus am Dammühlenteich
REFRESH-INTERVAL;VALUE=DURATION:PT1H
X-Robots-Tag:noindex
X-PUBLISHED-TTL:PT1H
BEGIN:VTIMEZONE
TZID:UTC
BEGIN:STANDARD
TZOFFSETFROM:+0000
TZOFFSETTO:+0000
TZNAME:UTC
DTSTART:20250101T000000
END:STANDARD
END:VTIMEZONE
BEGIN:VEVENT
DTSTART;TZID=UTC:20261112T000000
DTEND;TZID=UTC:20261220T235959
DTSTAMP:20260421T183015
CREATED:20260203T131847Z
LAST-MODIFIED:20260203T132431Z
UID:2111-1794441600-1797811199@haus-am-dammuehlenteich.de
SUMMARY:Vom 12.11.bis 20.12 sind die Enten los
DESCRIPTION:mit leckeren Variationen von der Ente wie „Enten“ Burger\, „Enten“ Schnitzel und Entenbraten. \n\n\n\nGuten Appetit
URL:https://haus-am-dammuehlenteich.de/event/vom-12-11-bis-20-12-sind-die-enten-los/
CATEGORIES:2026
END:VEVENT
BEGIN:VEVENT
DTSTART;TZID=UTC:20261112T180000
DTEND;TZID=UTC:20261112T220000
DTSTAMP:20260421T183015
CREATED:20260203T135750Z
LAST-MODIFIED:20260203T140157Z
UID:2137-1794506400-1794520800@haus-am-dammuehlenteich.de
SUMMARY:12.11. Unsere beliebten Weihnachtsveranstaltungen
DESCRIPTION:mit Winterglühwein zur Begrüßung am offenem Feuer und danach leckerem Menü im warmen Gasthaus; \n\n\n\nhausgemachte Gänsesuppe\, zarte Entenkeule mit Apfelrotkohl und kleinen Klößen \n\n\n\noder \n\n\n\nals Wahl „Entenschnitzel“ mit Schnitzel vom saftigem Schweinelachs mit Orangenbratensoße und Entenbruststreifen im Ofen überbacken \n\n\n\nund danach noch ein leckeres Eisdessert. Nach dem Speisen geht es wieder nach draußen auf unsere Eisstockbahn wo es heiß hergehen wird.Im Innenbereich wird dann unser erfahrener Haus DJ Sie mit Tanzmusik bis ca. 22 Uhr unterhalten.   \n\n\n\nPreis nur 29.95 €
URL:https://haus-am-dammuehlenteich.de/event/unsere-beliebten-weihnachtsveranstaltungen-3/
CATEGORIES:2026
END:VEVENT
BEGIN:VEVENT
DTSTART;TZID=UTC:20261113T180000
DTEND;TZID=UTC:20261113T220000
DTSTAMP:20260421T183015
CREATED:20260203T135835Z
LAST-MODIFIED:20260203T140219Z
UID:2140-1794592800-1794607200@haus-am-dammuehlenteich.de
SUMMARY:13.11. Unsere beliebten Weihnachtsveranstaltungen
DESCRIPTION:mit Winterglühwein zur Begrüßung am offenem Feuer und danach leckerem Menü im warmen Gasthaus; \n\n\n\nhausgemachte Gänsesuppe\, zarte Entenkeule mit Apfelrotkohl und kleinen Klößen \n\n\n\noder \n\n\n\nals Wahl „Entenschnitzel“ mit Schnitzel vom saftigem Schweinelachs mit Orangenbratensoße und Entenbruststreifen im Ofen überbacken \n\n\n\nund danach noch ein leckeres Eisdessert. Nach dem Speisen geht es wieder nach draußen auf unsere Eisstockbahn wo es heiß hergehen wird.Im Innenbereich wird dann unser erfahrener Haus DJ Sie mit Tanzmusik bis ca. 22 Uhr unterhalten.   \n\n\n\nPreis nur 29.95 €
URL:https://haus-am-dammuehlenteich.de/event/unsere-beliebten-weihnachtsveranstaltungen-3-2/
CATEGORIES:2026
END:VEVENT
BEGIN:VEVENT
DTSTART;TZID=UTC:20261119T180000
DTEND;TZID=UTC:20261119T220000
DTSTAMP:20260421T183015
CREATED:20260203T135902Z
LAST-MODIFIED:20260203T140248Z
UID:2142-1795111200-1795125600@haus-am-dammuehlenteich.de
SUMMARY:19.11. Unsere beliebten Weihnachtsveranstaltungen
DESCRIPTION:mit Winterglühwein zur Begrüßung am offenem Feuer und danach leckerem Menü im warmen Gasthaus; \n\n\n\nhausgemachte Gänsesuppe\, zarte Entenkeule mit Apfelrotkohl und kleinen Klößen \n\n\n\noder \n\n\n\nals Wahl „Entenschnitzel“ mit Schnitzel vom saftigem Schweinelachs mit Orangenbratensoße und Entenbruststreifen im Ofen überbacken \n\n\n\nund danach noch ein leckeres Eisdessert. Nach dem Speisen geht es wieder nach draußen auf unsere Eisstockbahn wo es heiß hergehen wird.Im Innenbereich wird dann unser erfahrener Haus DJ Sie mit Tanzmusik bis ca. 22 Uhr unterhalten.   \n\n\n\nPreis nur 29.95 €
URL:https://haus-am-dammuehlenteich.de/event/unsere-beliebten-weihnachtsveranstaltungen-3-2-2/
CATEGORIES:2026
END:VEVENT
BEGIN:VEVENT
DTSTART;TZID=UTC:20261120T180000
DTEND;TZID=UTC:20261120T220000
DTSTAMP:20260421T183015
CREATED:20260203T135918Z
LAST-MODIFIED:20260203T140310Z
UID:2144-1795197600-1795212000@haus-am-dammuehlenteich.de
SUMMARY:20.11. Unsere beliebten Weihnachtsveranstaltungen
DESCRIPTION:mit Winterglühwein zur Begrüßung am offenem Feuer und danach leckerem Menü im warmen Gasthaus; \n\n\n\nhausgemachte Gänsesuppe\, zarte Entenkeule mit Apfelrotkohl und kleinen Klößen \n\n\n\noder \n\n\n\nals Wahl „Entenschnitzel“ mit Schnitzel vom saftigem Schweinelachs mit Orangenbratensoße und Entenbruststreifen im Ofen überbacken \n\n\n\nund danach noch ein leckeres Eisdessert. Nach dem Speisen geht es wieder nach draußen auf unsere Eisstockbahn wo es heiß hergehen wird.Im Innenbereich wird dann unser erfahrener Haus DJ Sie mit Tanzmusik bis ca. 22 Uhr unterhalten.   \n\n\n\nPreis nur 29.95 €
URL:https://haus-am-dammuehlenteich.de/event/unsere-beliebten-weihnachtsveranstaltungen-3-2-2-2/
CATEGORIES:2026
END:VEVENT
BEGIN:VEVENT
DTSTART;TZID=UTC:20261126T180000
DTEND;TZID=UTC:20261126T220000
DTSTAMP:20260421T183015
CREATED:20260203T140047Z
LAST-MODIFIED:20260203T140354Z
UID:2146-1795716000-1795730400@haus-am-dammuehlenteich.de
SUMMARY:26.11. Unsere beliebten Weihnachtsveranstaltungen
DESCRIPTION:mit Winterglühwein zur Begrüßung am offenem Feuer und danach leckerem Menü im warmen Gasthaus; \n\n\n\nhausgemachte Gänsesuppe\, zarte Entenkeule mit Apfelrotkohl und kleinen Klößen \n\n\n\noder \n\n\n\nals Wahl „Entenschnitzel“ mit Schnitzel vom saftigem Schweinelachs mit Orangenbratensoße und Entenbruststreifen im Ofen überbacken \n\n\n\nund danach noch ein leckeres Eisdessert. Nach dem Speisen geht es wieder nach draußen auf unsere Eisstockbahn wo es heiß hergehen wird.Im Innenbereich wird dann unser erfahrener Haus DJ Sie mit Tanzmusik bis ca. 22 Uhr unterhalten.   \n\n\n\nPreis nur 29.95 €
URL:https://haus-am-dammuehlenteich.de/event/unsere-beliebten-weihnachtsveranstaltungen-3-2-2-2-2/
CATEGORIES:2026
END:VEVENT
BEGIN:VEVENT
DTSTART;TZID=UTC:20261127T180000
DTEND;TZID=UTC:20261127T220000
DTSTAMP:20260421T183015
CREATED:20260203T140418Z
LAST-MODIFIED:20260203T140419Z
UID:2154-1795802400-1795816800@haus-am-dammuehlenteich.de
SUMMARY:27.11. Unsere beliebten Weihnachtsveranstaltungen
DESCRIPTION:mit Winterglühwein zur Begrüßung am offenem Feuer und danach leckerem Menü im warmen Gasthaus; \n\n\n\nhausgemachte Gänsesuppe\, zarte Entenkeule mit Apfelrotkohl und kleinen Klößen \n\n\n\noder \n\n\n\nals Wahl „Entenschnitzel“ mit Schnitzel vom saftigem Schweinelachs mit Orangenbratensoße und Entenbruststreifen im Ofen überbacken \n\n\n\nund danach noch ein leckeres Eisdessert. Nach dem Speisen geht es wieder nach draußen auf unsere Eisstockbahn wo es heiß hergehen wird.Im Innenbereich wird dann unser erfahrener Haus DJ Sie mit Tanzmusik bis ca. 22 Uhr unterhalten.   \n\n\n\nPreis nur 29.95 €
URL:https://haus-am-dammuehlenteich.de/event/unsere-beliebten-weihnachtsveranstaltungen-3-2-2-2-2-2/
CATEGORIES:2026
END:VEVENT
END:VCALENDAR